Workbook

Sheet Reservas
A1: Alojamiento | B1: Llega | C1: Se va | D1: Huésped | E1: Personas | F1: Teléfono
A2: Piso Centro | B2: 46332 | C2: 46335 | D2: Elena García | E2: 2 | F2: 600 000 011
A3: Ático Playa | B3: 46333 | C3: 46340 | D3: Familia Moreno | E3: 4 | F3: 600 000 012
A4: Piso Centro | B4: 46335 | C4: 46338 | D4: Tomás Navarro | E4: 1 | F4: 600 000 013

Sheet Limpiezas
A1: Día | B1: Alojamiento
A2: =IF(Reservas!C2="","",Reservas!C2) | B2: =IF(Reservas!C2="","",Reservas!A2)
A3: =IF(Reservas!C3="","",Reservas!C3) | B3: =IF(Reservas!C3="","",Reservas!A3)
A4: =IF(Reservas!C4="","",Reservas!C4) | B4: =IF(Reservas!C4="","",Reservas!A4)
A5: =IF(Reservas!C5="","",Reservas!C5) | B5: =IF(Reservas!C5="","",Reservas!A5)
A6: =IF(Reservas!C6="","",Reservas!C6) | B6: =IF(Reservas!C6="","",Reservas!A6)
A7: =IF(Reservas!C7="","",Reservas!C7) | B7: =IF(Reservas!C7="","",Reservas!A7)
A8: =IF(Reservas!C8="","",Reservas!C8) | B8: =IF(Reservas!C8="","",Reservas!A8)
A9: =IF(Reservas!C9="","",Reservas!C9) | B9: =IF(Reservas!C9="","",Reservas!A9)
A10: =IF(Reservas!C10="","",Reservas!C10) | B10: =IF(Reservas!C10="","",Reservas!A10)
A11: =IF(Reservas!C11="","",Reservas!C11) | B11: =IF(Reservas!C11="","",Reservas!A11)
A12: =IF(Reservas!C12="","",Reservas!C12) | B12: =IF(Reservas!C12="","",Reservas!A12)
A13: =IF(Reservas!C13="","",Reservas!C13) | B13: =IF(Reservas!C13="","",Reservas!A13)
... A301: =IF(Reservas!C301="","",Reservas!C301) | B301: =IF(Reservas!C301="","",Reservas!A301)
