Workbook

Sheet Clases
A1: Día | B1: Hora | C1: Clase | D1: Plazas | E1: Quedan
A2: Lunes | B2: 0.75 | C2: Spinning | D2: 12 | E2: =IF(D2="","",IF(D2-COUNTIFS(Turnos!$A:$A,A2,Turnos!$B:$B,B2,Turnos!$C:$C,C2)<=0,"Completa",D2-COUNTIFS(Turnos!$A:$A,A2,Turnos!$B:$B,B2,Turnos!$C:$C,C2)))
A3: Miércoles | B3: 0.8125 | C3: Pilates | D3: 8 | E3: =IF(D3="","",IF(D3-COUNTIFS(Turnos!$A:$A,A3,Turnos!$B:$B,B3,Turnos!$C:$C,C3)<=0,"Completa",D3-COUNTIFS(Turnos!$A:$A,A3,Turnos!$B:$B,B3,Turnos!$C:$C,C3)))
A4: Viernes | B4: 0.375 | C4: Funcional | D4: 3 | E4: =IF(D4="","",IF(D4-COUNTIFS(Turnos!$A:$A,A4,Turnos!$B:$B,B4,Turnos!$C:$C,C4)<=0,"Completa",D4-COUNTIFS(Turnos!$A:$A,A4,Turnos!$B:$B,B4,Turnos!$C:$C,C4)))
E5: =IF(D5="","",IF(D5-COUNTIFS(Turnos!$A:$A,A5,Turnos!$B:$B,B5,Turnos!$C:$C,C5)<=0,"Completa",D5-COUNTIFS(Turnos!$A:$A,A5,Turnos!$B:$B,B5,Turnos!$C:$C,C5)))
E6: =IF(D6="","",IF(D6-COUNTIFS(Turnos!$A:$A,A6,Turnos!$B:$B,B6,Turnos!$C:$C,C6)<=0,"Completa",D6-COUNTIFS(Turnos!$A:$A,A6,Turnos!$B:$B,B6,Turnos!$C:$C,C6)))
E7: =IF(D7="","",IF(D7-COUNTIFS(Turnos!$A:$A,A7,Turnos!$B:$B,B7,Turnos!$C:$C,C7)<=0,"Completa",D7-COUNTIFS(Turnos!$A:$A,A7,Turnos!$B:$B,B7,Turnos!$C:$C,C7)))
E8: =IF(D8="","",IF(D8-COUNTIFS(Turnos!$A:$A,A8,Turnos!$B:$B,B8,Turnos!$C:$C,C8)<=0,"Completa",D8-COUNTIFS(Turnos!$A:$A,A8,Turnos!$B:$B,B8,Turnos!$C:$C,C8)))
E9: =IF(D9="","",IF(D9-COUNTIFS(Turnos!$A:$A,A9,Turnos!$B:$B,B9,Turnos!$C:$C,C9)<=0,"Completa",D9-COUNTIFS(Turnos!$A:$A,A9,Turnos!$B:$B,B9,Turnos!$C:$C,C9)))
E10: =IF(D10="","",IF(D10-COUNTIFS(Turnos!$A:$A,A10,Turnos!$B:$B,B10,Turnos!$C:$C,C10)<=0,"Completa",D10-COUNTIFS(Turnos!$A:$A,A10,Turnos!$B:$B,B10,Turnos!$C:$C,C10)))
E11: =IF(D11="","",IF(D11-COUNTIFS(Turnos!$A:$A,A11,Turnos!$B:$B,B11,Turnos!$C:$C,C11)<=0,"Completa",D11-COUNTIFS(Turnos!$A:$A,A11,Turnos!$B:$B,B11,Turnos!$C:$C,C11)))
E12: =IF(D12="","",IF(D12-COUNTIFS(Turnos!$A:$A,A12,Turnos!$B:$B,B12,Turnos!$C:$C,C12)<=0,"Completa",D12-COUNTIFS(Turnos!$A:$A,A12,Turnos!$B:$B,B12,Turnos!$C:$C,C12)))
E13: =IF(D13="","",IF(D13-COUNTIFS(Turnos!$A:$A,A13,Turnos!$B:$B,B13,Turnos!$C:$C,C13)<=0,"Completa",D13-COUNTIFS(Turnos!$A:$A,A13,Turnos!$B:$B,B13,Turnos!$C:$C,C13)))
E14: =IF(D14="","",IF(D14-COUNTIFS(Turnos!$A:$A,A14,Turnos!$B:$B,B14,Turnos!$C:$C,C14)<=0,"Completa",D14-COUNTIFS(Turnos!$A:$A,A14,Turnos!$B:$B,B14,Turnos!$C:$C,C14)))
E15: =IF(D15="","",IF(D15-COUNTIFS(Turnos!$A:$A,A15,Turnos!$B:$B,B15,Turnos!$C:$C,C15)<=0,"Completa",D15-COUNTIFS(Turnos!$A:$A,A15,Turnos!$B:$B,B15,Turnos!$C:$C,C15)))
E16: =IF(D16="","",IF(D16-COUNTIFS(Turnos!$A:$A,A16,Turnos!$B:$B,B16,Turnos!$C:$C,C16)<=0,"Completa",D16-COUNTIFS(Turnos!$A:$A,A16,Turnos!$B:$B,B16,Turnos!$C:$C,C16)))
... E301: =IF(D301="","",IF(D301-COUNTIFS(Turnos!$A:$A,A301,Turnos!$B:$B,B301,Turnos!$C:$C,C301)<=0,"Completa",D301-COUNTIFS(Turnos!$A:$A,A301,Turnos!$B:$B,B301,Turnos!$C:$C,C301)))

Sheet Turnos
A1: Día | B1: Hora | C1: Clase | D1: Persona | E1: Teléfono
A2: Lunes | B2: 0.75 | C2: Spinning | D2: Lucía Martín | E2: 600 000 001
A3: Lunes | B3: 0.75 | C3: Spinning | D3: Javier Ruiz | E3: 600 000 002
A4: Miércoles | B4: 0.8125 | C4: Pilates | D4: Carmen López | E4: 600 000 003
A5: Viernes | B5: 0.375 | C5: Funcional | D5: Pablo Sánchez | E5: 600 000 004
A6: Viernes | B6: 0.375 | C6: Funcional | D6: Marta Gómez | E6: 600 000 005
A7: Viernes | B7: 0.375 | C7: Funcional | D7: Andrés Díaz | E7: 600 000 006
